BEGIN:VCALENDAR
VERSION:2.0
PRODID:-//BFKDO Klagenfurt Land - ECPv6.15.20//NONSGML v1.0//EN
CALSCALE:GREGORIAN
METHOD:PUBLISH
X-ORIGINAL-URL:https://www.bfkdo-klagenfurtland.at
X-WR-CALDESC:Veranstaltungen für BFKDO Klagenfurt Land
REFRESH-INTERVAL;VALUE=DURATION:PT1H
X-Robots-Tag:noindex
X-PUBLISHED-TTL:PT1H
BEGIN:VTIMEZONE
TZID:Europe/Vienna
BEGIN:DAYLIGHT
TZOFFSETFROM:+0100
TZOFFSETTO:+0200
TZNAME:CEST
DTSTART:20220327T010000
END:DAYLIGHT
BEGIN:STANDARD
TZOFFSETFROM:+0200
TZOFFSETTO:+0100
TZNAME:CET
DTSTART:20221030T010000
END:STANDARD
BEGIN:DAYLIGHT
TZOFFSETFROM:+0100
TZOFFSETTO:+0200
TZNAME:CEST
DTSTART:20230326T010000
END:DAYLIGHT
BEGIN:STANDARD
TZOFFSETFROM:+0200
TZOFFSETTO:+0100
TZNAME:CET
DTSTART:20231029T010000
END:STANDARD
BEGIN:DAYLIGHT
TZOFFSETFROM:+0100
TZOFFSETTO:+0200
TZNAME:CEST
DTSTART:20240331T010000
END:DAYLIGHT
BEGIN:STANDARD
TZOFFSETFROM:+0200
TZOFFSETTO:+0100
TZNAME:CET
DTSTART:20241027T010000
END:STANDARD
END:VTIMEZONE
BEGIN:VEVENT
DTSTART;VALUE=DATE:20230513
DTEND;VALUE=DATE:20230514
DTSTAMP:20260425T184547
CREATED:20230503T153325Z
LAST-MODIFIED:20230503T153325Z
UID:18091-1683936000-1684022399@www.bfkdo-klagenfurtland.at
SUMMARY:Tag der offenen Tür der FF St. Thomas a. Z.
DESCRIPTION:
URL:https://www.bfkdo-klagenfurtland.at/veranstaltung/tag-der-offenen-tuer-der-ff-st-thomas-a-z-2023/
LOCATION:Rüsthaus St. Thomas am Zeiselberg\, Antoniaweg 1\, Magdalensberg\, Kärnten\, 9064\, Österreich
CATEGORIES:Veranstaltungen
END:VEVENT
BEGIN:VEVENT
DTSTART;VALUE=DATE:20230526
DTEND;VALUE=DATE:20230527
DTSTAMP:20260425T184547
CREATED:20230509T164615Z
LAST-MODIFIED:20230509T164615Z
UID:18109-1685059200-1685145599@www.bfkdo-klagenfurtland.at
SUMMARY:Abschnittsleistungsbewerb der FF Grafenstein
DESCRIPTION:
URL:https://www.bfkdo-klagenfurtland.at/veranstaltung/abschnittsleistungsbewerb-der-ff-grafenstein-2023/
LOCATION:Rüsthaus Grafenstein\, Zapfendorfer Str. 2\, Grafenstein\, Kärnten\, 9131\, Österreich
END:VEVENT
END:VCALENDAR