BEGIN:VCALENDAR
VERSION:2.0
PRODID:-//BFKDO Klagenfurt Land - ECPv6.15.20//NONSGML v1.0//EN
CALSCALE:GREGORIAN
METHOD:PUBLISH
X-ORIGINAL-URL:https://www.bfkdo-klagenfurtland.at
X-WR-CALDESC:Veranstaltungen für BFKDO Klagenfurt Land
REFRESH-INTERVAL;VALUE=DURATION:PT1H
X-Robots-Tag:noindex
X-PUBLISHED-TTL:PT1H
BEGIN:VTIMEZONE
TZID:Europe/Vienna
BEGIN:DAYLIGHT
TZOFFSETFROM:+0100
TZOFFSETTO:+0200
TZNAME:CEST
DTSTART:20210328T010000
END:DAYLIGHT
BEGIN:STANDARD
TZOFFSETFROM:+0200
TZOFFSETTO:+0100
TZNAME:CET
DTSTART:20211031T010000
END:STANDARD
BEGIN:DAYLIGHT
TZOFFSETFROM:+0100
TZOFFSETTO:+0200
TZNAME:CEST
DTSTART:20220327T010000
END:DAYLIGHT
BEGIN:STANDARD
TZOFFSETFROM:+0200
TZOFFSETTO:+0100
TZNAME:CET
DTSTART:20221030T010000
END:STANDARD
BEGIN:DAYLIGHT
TZOFFSETFROM:+0100
TZOFFSETTO:+0200
TZNAME:CEST
DTSTART:20230326T010000
END:DAYLIGHT
BEGIN:STANDARD
TZOFFSETFROM:+0200
TZOFFSETTO:+0100
TZNAME:CET
DTSTART:20231029T010000
END:STANDARD
END:VTIMEZONE
BEGIN:VEVENT
DTSTART;VALUE=DATE:20221016
DTEND;VALUE=DATE:20221017
DTSTAMP:20260425T123446
CREATED:20221005T093624Z
LAST-MODIFIED:20221005T093624Z
UID:17098-1665878400-1665964799@www.bfkdo-klagenfurtland.at
SUMMARY:Heilige Messe für Einsatzorganisationen
DESCRIPTION:
URL:https://www.bfkdo-klagenfurtland.at/veranstaltung/heilige-messe-fuer-einsatzorganisationen/
LOCATION:Maria Saaler Dom\, Domplatz 1\, Maria Saal\, 9063\, Österreich
CATEGORIES:Veranstaltungen
ORGANIZER;CN="Bezirksfeuerwehrkommando Klagenfurt-Land":MAILTO:presse@bfkdo-klagenfurtland.at
END:VEVENT
END:VCALENDAR