BEGIN:VCALENDAR
VERSION:2.0
PRODID:-//BFKDO Klagenfurt Land - ECPv6.15.20//NONSGML v1.0//EN
CALSCALE:GREGORIAN
METHOD:PUBLISH
X-ORIGINAL-URL:https://www.bfkdo-klagenfurtland.at
X-WR-CALDESC:Veranstaltungen für BFKDO Klagenfurt Land
REFRESH-INTERVAL;VALUE=DURATION:PT1H
X-Robots-Tag:noindex
X-PUBLISHED-TTL:PT1H
BEGIN:VTIMEZONE
TZID:Europe/Vienna
BEGIN:DAYLIGHT
TZOFFSETFROM:+0100
TZOFFSETTO:+0200
TZNAME:CEST
DTSTART:20210328T010000
END:DAYLIGHT
BEGIN:STANDARD
TZOFFSETFROM:+0200
TZOFFSETTO:+0100
TZNAME:CET
DTSTART:20211031T010000
END:STANDARD
BEGIN:DAYLIGHT
TZOFFSETFROM:+0100
TZOFFSETTO:+0200
TZNAME:CEST
DTSTART:20220327T010000
END:DAYLIGHT
BEGIN:STANDARD
TZOFFSETFROM:+0200
TZOFFSETTO:+0100
TZNAME:CET
DTSTART:20221030T010000
END:STANDARD
BEGIN:DAYLIGHT
TZOFFSETFROM:+0100
TZOFFSETTO:+0200
TZNAME:CEST
DTSTART:20230326T010000
END:DAYLIGHT
BEGIN:STANDARD
TZOFFSETFROM:+0200
TZOFFSETTO:+0100
TZNAME:CET
DTSTART:20231029T010000
END:STANDARD
END:VTIMEZONE
BEGIN:VEVENT
DTSTART;VALUE=DATE:20220821
DTEND;VALUE=DATE:20220822
DTSTAMP:20260424T144602
CREATED:20220728T205034Z
LAST-MODIFIED:20220728T205034Z
UID:17052-1661040000-1661126399@www.bfkdo-klagenfurtland.at
SUMMARY:Festakt 120 Jahre FF Kirschentheuer
DESCRIPTION:
URL:https://www.bfkdo-klagenfurtland.at/veranstaltung/festakt-120-jahre-ff-kirschentheuer/
LOCATION:Rüsthaus Kirschentheuer\, Kirschentheuer 31\, Ferlach\, Kärnten\, 9162\, Österreich
CATEGORIES:Veranstaltungen
END:VEVENT
END:VCALENDAR