BEGIN:VCALENDAR
VERSION:2.0
PRODID:-//BFKDO Klagenfurt Land - ECPv6.15.20//NONSGML v1.0//EN
CALSCALE:GREGORIAN
METHOD:PUBLISH
X-WR-CALNAME:BFKDO Klagenfurt Land
X-ORIGINAL-URL:https://www.bfkdo-klagenfurtland.at
X-WR-CALDESC:Veranstaltungen für BFKDO Klagenfurt Land
REFRESH-INTERVAL;VALUE=DURATION:PT1H
X-Robots-Tag:noindex
X-PUBLISHED-TTL:PT1H
BEGIN:VTIMEZONE
TZID:Europe/Vienna
BEGIN:DAYLIGHT
TZOFFSETFROM:+0100
TZOFFSETTO:+0200
TZNAME:CEST
DTSTART:20210328T010000
END:DAYLIGHT
BEGIN:STANDARD
TZOFFSETFROM:+0200
TZOFFSETTO:+0100
TZNAME:CET
DTSTART:20211031T010000
END:STANDARD
BEGIN:DAYLIGHT
TZOFFSETFROM:+0100
TZOFFSETTO:+0200
TZNAME:CEST
DTSTART:20220327T010000
END:DAYLIGHT
BEGIN:STANDARD
TZOFFSETFROM:+0200
TZOFFSETTO:+0100
TZNAME:CET
DTSTART:20221030T010000
END:STANDARD
BEGIN:DAYLIGHT
TZOFFSETFROM:+0100
TZOFFSETTO:+0200
TZNAME:CEST
DTSTART:20230326T010000
END:DAYLIGHT
BEGIN:STANDARD
TZOFFSETFROM:+0200
TZOFFSETTO:+0100
TZNAME:CET
DTSTART:20231029T010000
END:STANDARD
END:VTIMEZONE
BEGIN:VEVENT
DTSTART;VALUE=DATE:20220807
DTEND;VALUE=DATE:20220808
DTSTAMP:20260424T144511
CREATED:20220503T090912Z
LAST-MODIFIED:20220503T090912Z
UID:16129-1659830400-1659916799@www.bfkdo-klagenfurtland.at
SUMMARY:Frühschoppen der FF Maria Saal
DESCRIPTION:
URL:https://www.bfkdo-klagenfurtland.at/veranstaltung/fruehschoppen-der-ff-maria-saal-2/
CATEGORIES:Veranstaltungen
END:VEVENT
END:VCALENDAR